BEGIN:VCALENDAR
VERSION:2.0
PRODID:-//Advent u Sinju 2025. - ECPv6.15.12.2//NONSGML v1.0//EN
CALSCALE:GREGORIAN
METHOD:PUBLISH
X-WR-CALNAME:Advent u Sinju 2025.
X-ORIGINAL-URL:https://advent.sinj.hr
X-WR-CALDESC:Događaji za Advent u Sinju 2025.
REFRESH-INTERVAL;VALUE=DURATION:PT1H
X-Robots-Tag:noindex
X-PUBLISHED-TTL:PT1H
BEGIN:VTIMEZONE
TZID:Europe/Paris
BEGIN:DAYLIGHT
TZOFFSETFROM:+0100
TZOFFSETTO:+0200
TZNAME:CEST
DTSTART:20240331T010000
END:DAYLIGHT
BEGIN:STANDARD
TZOFFSETFROM:+0200
TZOFFSETTO:+0100
TZNAME:CET
DTSTART:20241027T010000
END:STANDARD
BEGIN:DAYLIGHT
TZOFFSETFROM:+0100
TZOFFSETTO:+0200
TZNAME:CEST
DTSTART:20250330T010000
END:DAYLIGHT
BEGIN:STANDARD
TZOFFSETFROM:+0200
TZOFFSETTO:+0100
TZNAME:CET
DTSTART:20251026T010000
END:STANDARD
BEGIN:DAYLIGHT
TZOFFSETFROM:+0100
TZOFFSETTO:+0200
TZNAME:CEST
DTSTART:20260329T010000
END:DAYLIGHT
BEGIN:STANDARD
TZOFFSETFROM:+0200
TZOFFSETTO:+0100
TZNAME:CET
DTSTART:20261025T010000
END:STANDARD
BEGIN:DAYLIGHT
TZOFFSETFROM:+0100
TZOFFSETTO:+0200
TZNAME:CEST
DTSTART:20270328T010000
END:DAYLIGHT
BEGIN:STANDARD
TZOFFSETFROM:+0200
TZOFFSETTO:+0100
TZNAME:CET
DTSTART:20271031T010000
END:STANDARD
END:VTIMEZONE
BEGIN:VEVENT
DTSTART;TZID=Europe/Paris:20251231T230000
DTEND;TZID=Europe/Paris:20260101T010000
DTSTAMP:20260421T101634
CREATED:20251205T052759Z
LAST-MODIFIED:20251205T052759Z
UID:1366-1767222000-1767229200@advent.sinj.hr
SUMMARY:NOVOGODIŠNJI KONCERT GRUPE HRVATSKE RUŽE - Grad Sinj
DESCRIPTION:
URL:https://advent.sinj.hr/program/novogodisnji-koncert-grupe-hrvatske-ruze-grad-sinj/
LOCATION:Trg dr. Franje Tuđmana
END:VEVENT
BEGIN:VEVENT
DTSTART;TZID=Europe/Paris:20251231T220000
DTEND;TZID=Europe/Paris:20251231T230000
DTSTAMP:20260421T101634
CREATED:20251205T052637Z
LAST-MODIFIED:20251205T052649Z
UID:1364-1767218400-1767222000@advent.sinj.hr
SUMMARY:"Doček Nove Godine" Koncert Ljute Kuće - Grad Sinj
DESCRIPTION:
URL:https://advent.sinj.hr/program/docek-nove-godine-koncert-ljute-kuce/
LOCATION:Trg dr. Franje Tuđmana
END:VEVENT
BEGIN:VEVENT
DTSTART;TZID=Europe/Paris:20251231T100000
DTEND;TZID=Europe/Paris:20251231T150000
DTSTAMP:20260421T101634
CREATED:20251205T052539Z
LAST-MODIFIED:20251205T052550Z
UID:1362-1767175200-1767193200@advent.sinj.hr
SUMMARY:"Dječji doček Nove godine" Koncert Piromana - Grad Sinj
DESCRIPTION:
URL:https://advent.sinj.hr/program/djecji-docek-nove-godine-koncert-piromana/
LOCATION:Trg dr. Franje Tuđmana
END:VEVENT
BEGIN:VEVENT
DTSTART;TZID=Europe/Paris:20251227T200000
DTEND;TZID=Europe/Paris:20251227T210000
DTSTAMP:20260421T101634
CREATED:20251205T052415Z
LAST-MODIFIED:20251205T052415Z
UID:1360-1766865600-1766869200@advent.sinj.hr
SUMMARY:Koncert Klape Sinj
DESCRIPTION:
URL:https://advent.sinj.hr/program/koncert-klape-sinj/
LOCATION:Bazilika Čudotvorne Gospe Sinjske
END:VEVENT
BEGIN:VEVENT
DTSTART;TZID=Europe/Paris:20251227T190000
DTEND;TZID=Europe/Paris:20251227T200000
DTSTAMP:20260421T101634
CREATED:20251205T052319Z
LAST-MODIFIED:20251205T052319Z
UID:1358-1766862000-1766865600@advent.sinj.hr
SUMMARY:Božićni koncert Sinjski Slavuji i Mješoviti zbor Grada Sinja
DESCRIPTION:
URL:https://advent.sinj.hr/program/bozicni-koncert-sinjski-slavuji-i-mjesoviti-zbor-grada-sinja/
LOCATION:Bazilika Čudotvorne Gospe Sinjske
END:VEVENT
BEGIN:VEVENT
DTSTART;TZID=Europe/Paris:20251227T180000
DTEND;TZID=Europe/Paris:20251227T220000
DTSTAMP:20260421T101634
CREATED:20251205T052156Z
LAST-MODIFIED:20251205T052346Z
UID:1355-1766858400-1766872800@advent.sinj.hr
SUMMARY:Živi muzej - PKD Gaj Laberije
DESCRIPTION:
URL:https://advent.sinj.hr/program/zivi-muzej-pkd-gaj-laberije/
LOCATION:Trg kralja Tomislava
END:VEVENT
BEGIN:VEVENT
DTSTART;TZID=Europe/Paris:20251224T110000
DTEND;TZID=Europe/Paris:20251224T140000
DTSTAMP:20260421T101634
CREATED:20251205T051939Z
LAST-MODIFIED:20251205T051952Z
UID:1351-1766574000-1766584800@advent.sinj.hr
SUMMARY:"Ususret Božiću" blagdanski stol na Badnjak - TZ grada Sinja
DESCRIPTION:
URL:https://advent.sinj.hr/program/ususret-bozicu-blagdanski-stol-na-badnjak/
LOCATION:Trg kralja Tomislava
END:VEVENT
BEGIN:VEVENT
DTSTART;TZID=Europe/Paris:20251224T103000
DTEND;TZID=Europe/Paris:20251224T130000
DTSTAMP:20260421T101634
CREATED:20251205T052104Z
LAST-MODIFIED:20251205T052114Z
UID:1353-1766572200-1766581200@advent.sinj.hr
SUMMARY:Koncert Teo Grčić i bend - Grad Sinj
DESCRIPTION:
URL:https://advent.sinj.hr/program/koncert-teo-grcic-i-bend/
LOCATION:Trg kralja Tomislava
END:VEVENT
BEGIN:VEVENT
DTSTART;TZID=Europe/Paris:20251223T170000
DTEND;TZID=Europe/Paris:20251223T180000
DTSTAMP:20260421T101634
CREATED:20251205T051837Z
LAST-MODIFIED:20251205T051849Z
UID:1349-1766509200-1766512800@advent.sinj.hr
SUMMARY:Predstava za djecu ''Djed mraz je dao otkaz'' - Sinjsko pučko kazalište
DESCRIPTION:
URL:https://advent.sinj.hr/program/predstava-za-djecu-djed-mraz-je-dao-otkaz/
LOCATION:Gradsko kino Sinj
END:VEVENT
BEGIN:VEVENT
DTSTART;TZID=Europe/Paris:20251223T083000
DTEND;TZID=Europe/Paris:20251223T230000
DTSTAMP:20260421T101634
CREATED:20251205T051719Z
LAST-MODIFIED:20251205T051719Z
UID:1347-1766478600-1766530800@advent.sinj.hr
SUMMARY:Božićni koncert grupe Dalmatino - Grad Sinj
DESCRIPTION:
URL:https://advent.sinj.hr/program/bozicni-koncert-grupe-dalmatino-grad-sinj/
LOCATION:Trg dr. Franje Tuđmana
END:VEVENT
BEGIN:VEVENT
DTSTART;TZID=Europe/Paris:20251222T193000
DTEND;TZID=Europe/Paris:20251222T213000
DTSTAMP:20260421T101634
CREATED:20251205T051610Z
LAST-MODIFIED:20251205T051610Z
UID:1343-1766431800-1766439000@advent.sinj.hr
SUMMARY:Djed Božićnjak dolazi u grad - KU Sinjske mažoretkinje
DESCRIPTION:
URL:https://advent.sinj.hr/program/djed-bozicnjak-dolazi-u-grad-ku-sinjske-mazoretkinje/
LOCATION:Gradska sportska dvorana
END:VEVENT
BEGIN:VEVENT
DTSTART;TZID=Europe/Paris:20251221T190000
DTEND;TZID=Europe/Paris:20251221T203000
DTSTAMP:20260421T101634
CREATED:20251205T051459Z
LAST-MODIFIED:20251205T051459Z
UID:1341-1766343600-1766349000@advent.sinj.hr
SUMMARY:Božično-novogodišnji koncert Gradske glazbe Sinj
DESCRIPTION:
URL:https://advent.sinj.hr/program/bozicno-novogodisnji-koncert-gradske-glazbe-sinj/
LOCATION:Bazilika Čudotvorne Gospe Sinjske
END:VEVENT
BEGIN:VEVENT
DTSTART;TZID=Europe/Paris:20251221T180000
DTEND;TZID=Europe/Paris:20251221T190000
DTSTAMP:20260421T101634
CREATED:20251205T051401Z
LAST-MODIFIED:20251205T051412Z
UID:1338-1766340000-1766343600@advent.sinj.hr
SUMMARY:Lutkarsko-glazbena predstava "Orašar" - KD MoMo
DESCRIPTION:
URL:https://advent.sinj.hr/program/lutkarsko-glazbena-predstava-orasar/
LOCATION:Gradsko kino Sinj
END:VEVENT
BEGIN:VEVENT
DTSTART;TZID=Europe/Paris:20251221T170000
DTEND;TZID=Europe/Paris:20251221T180000
DTSTAMP:20260421T101634
CREATED:20251205T051205Z
LAST-MODIFIED:20251205T051216Z
UID:1334-1766336400-1766340000@advent.sinj.hr
SUMMARY:Baletni božićni koncert - Baletni studio A la Dea
DESCRIPTION:
URL:https://advent.sinj.hr/program/baletni-bozicni-koncert/
LOCATION:Baletni studio A la Dea
END:VEVENT
BEGIN:VEVENT
DTSTART;TZID=Europe/Paris:20251220T203000
DTEND;TZID=Europe/Paris:20251220T230000
DTSTAMP:20260421T101634
CREATED:20251205T051101Z
LAST-MODIFIED:20251205T051101Z
UID:1332-1766262600-1766271600@advent.sinj.hr
SUMMARY:Izložba "Sinjska fotogalerija" - TZ Grada Sinja
DESCRIPTION:
URL:https://advent.sinj.hr/program/izlozba-sinjska-fotogalerija/
LOCATION:Palacina
END:VEVENT
BEGIN:VEVENT
DTSTART;TZID=Europe/Paris:20251220T200000
DTEND;TZID=Europe/Paris:20251220T230000
DTSTAMP:20260421T101634
CREATED:20251205T050949Z
LAST-MODIFIED:20251205T050949Z
UID:1329-1766260800-1766271600@advent.sinj.hr
SUMMARY:Ajmo u Rodilište svira Veja - SKUP
DESCRIPTION:
URL:https://advent.sinj.hr/program/ajmo-u-rodiliste-svira-veja/
LOCATION:Rodilište kulture
END:VEVENT
BEGIN:VEVENT
DTSTART;TZID=Europe/Paris:20251220T190000
DTEND;TZID=Europe/Paris:20251220T203000
DTSTAMP:20260421T101634
CREATED:20251205T050833Z
LAST-MODIFIED:20251205T050833Z
UID:1326-1766257200-1766262600@advent.sinj.hr
SUMMARY:Klape KUD Vrilo i gostiju
DESCRIPTION:
URL:https://advent.sinj.hr/program/klape-kud-vrilo-i-gostiju/
LOCATION:Klaustar Samostana Gospe Sinjske
END:VEVENT
BEGIN:VEVENT
DTSTART;TZID=Europe/Paris:20251220T190000
DTEND;TZID=Europe/Paris:20251220T200000
DTSTAMP:20260421T101634
CREATED:20251205T050714Z
LAST-MODIFIED:20251205T050714Z
UID:1322-1766257200-1766260800@advent.sinj.hr
SUMMARY:„Ususret Božiću” koncert za sopran i udaraljke
DESCRIPTION:
URL:https://advent.sinj.hr/program/ususret-bozicu-koncert-za-sopran-i-udaraljke/
LOCATION:Muzej Cetinske krajine ili Glazbena škola
END:VEVENT
BEGIN:VEVENT
DTSTART;TZID=Europe/Paris:20251220T180000
DTEND;TZID=Europe/Paris:20251220T183000
DTSTAMP:20260421T101634
CREATED:20251205T050439Z
LAST-MODIFIED:20251205T050545Z
UID:1319-1766253600-1766255400@advent.sinj.hr
SUMMARY:“Ususret Božiću” paljenje četvrte adventske svijeće - TZ grada Sinja
DESCRIPTION:
URL:https://advent.sinj.hr/program/ususret-bozicu-paljenje-cetvrte-adventske-svijece/
LOCATION:Trg kralja Tomislava
END:VEVENT
BEGIN:VEVENT
DTSTART;TZID=Europe/Paris:20251220T160000
DTEND;TZID=Europe/Paris:20251220T200000
DTSTAMP:20260421T101634
CREATED:20251205T050327Z
LAST-MODIFIED:20251205T050327Z
UID:1316-1766246400-1766260800@advent.sinj.hr
SUMMARY:Uprizorenje Badnje večeri - KUD Cetina
DESCRIPTION:
URL:https://advent.sinj.hr/program/uprizorenje-badnje-veceri/
LOCATION:Šetalište Alojzija Stepinca
END:VEVENT
BEGIN:VEVENT
DTSTART;TZID=Europe/Paris:20251220T160000
DTEND;TZID=Europe/Paris:20251220T180000
DTSTAMP:20260421T101634
CREATED:20251205T050207Z
LAST-MODIFIED:20251205T050207Z
UID:1314-1766246400-1766253600@advent.sinj.hr
SUMMARY:“Ususret Božiću” prigodne blagdanske radionice - TZ Grada Sinja
DESCRIPTION:
URL:https://advent.sinj.hr/program/ususret-bozicu-prigodne-blagdanske-radionice-4/
LOCATION:Palacina
END:VEVENT
BEGIN:VEVENT
DTSTART;TZID=Europe/Paris:20251218T190000
DTEND;TZID=Europe/Paris:20251218T203000
DTSTAMP:20260421T101634
CREATED:20251205T042315Z
LAST-MODIFIED:20251205T042315Z
UID:1304-1766084400-1766089800@advent.sinj.hr
SUMMARY:Koncert Klapa Prijatelji Brnaze
DESCRIPTION:
URL:https://advent.sinj.hr/program/koncert-klapa-prijatelji-brnaze/
LOCATION:Dom kulture Brnaze
END:VEVENT
BEGIN:VEVENT
DTSTART;TZID=Europe/Paris:20251216T190000
DTEND;TZID=Europe/Paris:20251216T210000
DTSTAMP:20260421T101634
CREATED:20251205T042206Z
LAST-MODIFIED:20251205T042206Z
UID:1301-1765911600-1765918800@advent.sinj.hr
SUMMARY:Koncert KUD Osinium
DESCRIPTION:
URL:https://advent.sinj.hr/program/koncert-kud-osinium/
LOCATION:Adventske kućice
END:VEVENT
BEGIN:VEVENT
DTSTART;TZID=Europe/Paris:20251214T200000
DTEND;TZID=Europe/Paris:20251214T210000
DTSTAMP:20260421T101634
CREATED:20251205T042117Z
LAST-MODIFIED:20251205T042117Z
UID:1299-1765742400-1765746000@advent.sinj.hr
SUMMARY:Predstava Wally Neuzil ''Lice iz sjene'' - KD MoMo
DESCRIPTION:
URL:https://advent.sinj.hr/program/predstava-wally-neuzil-lice-iz-sjene/
LOCATION:Gradska galerija Sikirica
END:VEVENT
BEGIN:VEVENT
DTSTART;TZID=Europe/Paris:20251213T203000
DTEND;TZID=Europe/Paris:20251213T213000
DTSTAMP:20260421T101634
CREATED:20251205T041912Z
LAST-MODIFIED:20251205T041912Z
UID:1297-1765657800-1765661400@advent.sinj.hr
SUMMARY:Koncert Lidije Bačić Lile - Grad Sinj
DESCRIPTION:
URL:https://advent.sinj.hr/program/koncert-lidije-bacic-lile/
LOCATION:Trg dr. Franje Tuđmana
END:VEVENT
BEGIN:VEVENT
DTSTART;TZID=Europe/Paris:20251213T190000
DTEND;TZID=Europe/Paris:20251213T200000
DTSTAMP:20260421T101634
CREATED:20251205T041812Z
LAST-MODIFIED:20251205T041812Z
UID:1294-1765652400-1765656000@advent.sinj.hr
SUMMARY:Franjevačka klasična gimnazija - Gostovanje Ansambla Lado
DESCRIPTION:
URL:https://advent.sinj.hr/program/franjevacka-klasicna-gimnazija-gostovanje-ansambla-lado/
LOCATION:Bazilika Čudotvorne Gospe Sinjske
END:VEVENT
BEGIN:VEVENT
DTSTART;TZID=Europe/Paris:20251213T180000
DTEND;TZID=Europe/Paris:20251213T183000
DTSTAMP:20260421T101634
CREATED:20251204T213221Z
LAST-MODIFIED:20251204T213230Z
UID:993-1765648800-1765650600@advent.sinj.hr
SUMMARY:“Ususret Božiću” paljenje treće adventske svijeće - TZ grada Sinja
DESCRIPTION:
URL:https://advent.sinj.hr/program/ususret-bozicu-paljenje-trece-adventske-svijece/
LOCATION:Trg kralja Tomislava
END:VEVENT
BEGIN:VEVENT
DTSTART;TZID=Europe/Paris:20251213T173000
DTEND;TZID=Europe/Paris:20251213T183000
DTSTAMP:20260421T101634
CREATED:20251204T213111Z
LAST-MODIFIED:20251204T213122Z
UID:990-1765647000-1765650600@advent.sinj.hr
SUMMARY:Koncert dječjih zborova - Udruga Cjelovit život
DESCRIPTION:
URL:https://advent.sinj.hr/program/koncert-djecjih-zborova/
LOCATION:Dvorana Gospe Sinjske\, Bazilika Čudotvorne Gospe Sinjske
END:VEVENT
BEGIN:VEVENT
DTSTART;TZID=Europe/Paris:20251213T160000
DTEND;TZID=Europe/Paris:20251213T180000
DTSTAMP:20260421T101634
CREATED:20251204T212956Z
LAST-MODIFIED:20251205T041606Z
UID:988-1765641600-1765648800@advent.sinj.hr
SUMMARY:"Ususret Božiću” prigodne blagdanske radionice - TZ grada Sinja
DESCRIPTION:
URL:https://advent.sinj.hr/program/ususret-bozicu-prigodne-blagdanske-radionice-3/
LOCATION:Palacina
END:VEVENT
BEGIN:VEVENT
DTSTART;TZID=Europe/Paris:20251212T180000
DTEND;TZID=Europe/Paris:20251212T200000
DTSTAMP:20260421T101634
CREATED:20251204T212754Z
LAST-MODIFIED:20251204T212803Z
UID:986-1765562400-1765569600@advent.sinj.hr
SUMMARY:Radionica elementarne robotike - Udruga Cjelovit život
DESCRIPTION:
URL:https://advent.sinj.hr/program/radionica-elementarne-robotike/
LOCATION:Gradska galerija Sikirica
END:VEVENT
END:VCALENDAR